BEGIN:VCALENDAR
VERSION:2.0
PRODID:-//Pravosudna akademija - ECPv6.15.20//NONSGML v1.0//EN
CALSCALE:GREGORIAN
METHOD:PUBLISH
X-ORIGINAL-URL:https://www.pak.hr
X-WR-CALDESC:Događaji za Pravosudna akademija
REFRESH-INTERVAL;VALUE=DURATION:PT1H
X-Robots-Tag:noindex
X-PUBLISHED-TTL:PT1H
BEGIN:VTIMEZONE
TZID:Europe/Zagreb
BEGIN:DAYLIGHT
TZOFFSETFROM:+0100
TZOFFSETTO:+0200
TZNAME:CEST
DTSTART:20220327T010000
END:DAYLIGHT
BEGIN:STANDARD
TZOFFSETFROM:+0200
TZOFFSETTO:+0100
TZNAME:CET
DTSTART:20221030T010000
END:STANDARD
BEGIN:DAYLIGHT
TZOFFSETFROM:+0100
TZOFFSETTO:+0200
TZNAME:CEST
DTSTART:20230326T010000
END:DAYLIGHT
BEGIN:STANDARD
TZOFFSETFROM:+0200
TZOFFSETTO:+0100
TZNAME:CET
DTSTART:20231029T010000
END:STANDARD
BEGIN:DAYLIGHT
TZOFFSETFROM:+0100
TZOFFSETTO:+0200
TZNAME:CEST
DTSTART:20240331T010000
END:DAYLIGHT
BEGIN:STANDARD
TZOFFSETFROM:+0200
TZOFFSETTO:+0100
TZNAME:CET
DTSTART:20241027T010000
END:STANDARD
END:VTIMEZONE
BEGIN:VEVENT
DTSTART;TZID=Europe/Zagreb:20231009T090000
DTEND;TZID=Europe/Zagreb:20231009T150000
DTSTAMP:20260423T134110
CREATED:20230511T103015Z
LAST-MODIFIED:20250929T130941Z
UID:10000156-1696842000-1696863600@www.pak.hr
SUMMARY:Uloga FINA-e u ovršnom postupku
DESCRIPTION:
URL:https://www.pak.hr/event/uloga-fina-e-u-ovrsnom-postupku-3/
END:VEVENT
BEGIN:VEVENT
DTSTART;TZID=Europe/Zagreb:20231009T090000
DTEND;TZID=Europe/Zagreb:20231009T150000
DTSTAMP:20260423T134110
CREATED:20230511T103015Z
LAST-MODIFIED:20250929T130941Z
UID:10000157-1696842000-1696863600@www.pak.hr
SUMMARY:Tehnike učinkovitog vođenja rasprave u kaznenom postupku – priprema\, tijek i upravljanje raspravom
DESCRIPTION:
URL:https://www.pak.hr/event/tehnike-ucinkovitog-vodenja-rasprave-u-kaznenom-postupku-priprema-tijek-i-upravljanje-raspravom/
END:VEVENT
BEGIN:VEVENT
DTSTART;TZID=Europe/Zagreb:20231009T090000
DTEND;TZID=Europe/Zagreb:20231009T150000
DTSTAMP:20260423T134110
CREATED:20230511T103015Z
LAST-MODIFIED:20250929T130941Z
UID:10000158-1696842000-1696863600@www.pak.hr
SUMMARY:Proboj pravne osobnosti i odgovornost člana uprave
DESCRIPTION:
URL:https://www.pak.hr/event/proboj-pravne-osobnosti-i-odgovornost-clana-uprave-2/
END:VEVENT
END:VCALENDAR