BEGIN:VCALENDAR
VERSION:2.0
PRODID:-//Pravosudna akademija - ECPv6.15.20//NONSGML v1.0//EN
CALSCALE:GREGORIAN
METHOD:PUBLISH
X-ORIGINAL-URL:https://www.pak.hr
X-WR-CALDESC:Događaji za Pravosudna akademija
REFRESH-INTERVAL;VALUE=DURATION:PT1H
X-Robots-Tag:noindex
X-PUBLISHED-TTL:PT1H
BEGIN:VTIMEZONE
TZID:Europe/Zagreb
BEGIN:DAYLIGHT
TZOFFSETFROM:+0100
TZOFFSETTO:+0200
TZNAME:CEST
DTSTART:20220327T010000
END:DAYLIGHT
BEGIN:STANDARD
TZOFFSETFROM:+0200
TZOFFSETTO:+0100
TZNAME:CET
DTSTART:20221030T010000
END:STANDARD
BEGIN:DAYLIGHT
TZOFFSETFROM:+0100
TZOFFSETTO:+0200
TZNAME:CEST
DTSTART:20230326T010000
END:DAYLIGHT
BEGIN:STANDARD
TZOFFSETFROM:+0200
TZOFFSETTO:+0100
TZNAME:CET
DTSTART:20231029T010000
END:STANDARD
BEGIN:DAYLIGHT
TZOFFSETFROM:+0100
TZOFFSETTO:+0200
TZNAME:CEST
DTSTART:20240331T010000
END:DAYLIGHT
BEGIN:STANDARD
TZOFFSETFROM:+0200
TZOFFSETTO:+0100
TZNAME:CET
DTSTART:20241027T010000
END:STANDARD
END:VTIMEZONE
BEGIN:VEVENT
DTSTART;TZID=Europe/Zagreb:20231010T090000
DTEND;TZID=Europe/Zagreb:20231010T150000
DTSTAMP:20260423T134022
CREATED:20230511T103015Z
LAST-MODIFIED:20250929T130942Z
UID:10000159-1696928400-1696950000@www.pak.hr
SUMMARY:Načini komunikacije s medijima i društvene mreže
DESCRIPTION:
URL:https://www.pak.hr/event/nacini-komunikacije-s-medijima-i-drustvene-mreze-5/
END:VEVENT
BEGIN:VEVENT
DTSTART;TZID=Europe/Zagreb:20231010T090000
DTEND;TZID=Europe/Zagreb:20231010T150000
DTSTAMP:20260423T134022
CREATED:20230511T103015Z
LAST-MODIFIED:20250929T130942Z
UID:10000160-1696928400-1696950000@www.pak.hr
SUMMARY:Zločin iz mržnje i govor mržnje
DESCRIPTION:
URL:https://www.pak.hr/event/zlocin-iz-mrznje-i-govor-mrznje/
END:VEVENT
BEGIN:VEVENT
DTSTART;TZID=Europe/Zagreb:20231010T090000
DTEND;TZID=Europe/Zagreb:20231012T150000
DTSTAMP:20260423T134022
CREATED:20230511T103015Z
LAST-MODIFIED:20250929T130941Z
UID:10000165-1696928400-1697122800@www.pak.hr
SUMMARY:Projekt 2 - Predrasude\, psihologija svjedočenja\, upravljanje stresom i postupanje sa zahtjevnim strankama\, 6. grupa
DESCRIPTION:
URL:https://www.pak.hr/event/projekt-2-predrasude-psihologija-svjedocenja-upravljanje-stresom-i-postupanje-sa-zahtjevnim-strankama-6-grupa-2/
END:VEVENT
END:VCALENDAR