BEGIN:VCALENDAR
VERSION:2.0
PRODID:-//Pravosudna akademija - ECPv6.15.20//NONSGML v1.0//EN
CALSCALE:GREGORIAN
METHOD:PUBLISH
X-WR-CALNAME:Pravosudna akademija
X-ORIGINAL-URL:https://www.pak.hr
X-WR-CALDESC:Događaji za Pravosudna akademija
REFRESH-INTERVAL;VALUE=DURATION:PT1H
X-Robots-Tag:noindex
X-PUBLISHED-TTL:PT1H
BEGIN:VTIMEZONE
TZID:Europe/Zagreb
BEGIN:DAYLIGHT
TZOFFSETFROM:+0100
TZOFFSETTO:+0200
TZNAME:CEST
DTSTART:20220327T010000
END:DAYLIGHT
BEGIN:STANDARD
TZOFFSETFROM:+0200
TZOFFSETTO:+0100
TZNAME:CET
DTSTART:20221030T010000
END:STANDARD
BEGIN:DAYLIGHT
TZOFFSETFROM:+0100
TZOFFSETTO:+0200
TZNAME:CEST
DTSTART:20230326T010000
END:DAYLIGHT
BEGIN:STANDARD
TZOFFSETFROM:+0200
TZOFFSETTO:+0100
TZNAME:CET
DTSTART:20231029T010000
END:STANDARD
BEGIN:DAYLIGHT
TZOFFSETFROM:+0100
TZOFFSETTO:+0200
TZNAME:CEST
DTSTART:20240331T010000
END:DAYLIGHT
BEGIN:STANDARD
TZOFFSETFROM:+0200
TZOFFSETTO:+0100
TZNAME:CET
DTSTART:20241027T010000
END:STANDARD
END:VTIMEZONE
BEGIN:VEVENT
DTSTART;TZID=Europe/Zagreb:20231123T090000
DTEND;TZID=Europe/Zagreb:20231124T150000
DTSTAMP:20260423T135539
CREATED:20230511T103024Z
LAST-MODIFIED:20250310T120216Z
UID:10000220-1700730000-1700838000@www.pak.hr
SUMMARY:Novine u građanskom pravu
DESCRIPTION:
URL:https://www.pak.hr/event/novine-u-gradanskom-pravu/
LOCATION:Tuhelj
END:VEVENT
BEGIN:VEVENT
DTSTART;TZID=Europe/Zagreb:20231124T090000
DTEND;TZID=Europe/Zagreb:20231124T150000
DTSTAMP:20260423T135539
CREATED:20230511T103024Z
LAST-MODIFIED:20250929T130946Z
UID:10000219-1700816400-1700838000@www.pak.hr
SUMMARY:Tehnike učinkovitog vođenja rasprave u kaznenom postupku – priprema\, tijek i upravljanje raspravom
DESCRIPTION:
URL:https://www.pak.hr/event/tehnike-ucinkovitog-vodenja-rasprave-u-kaznenom-postupku-priprema-tijek-i-upravljanje-raspravom-2/
END:VEVENT
BEGIN:VEVENT
DTSTART;TZID=Europe/Zagreb:20231124T090000
DTEND;TZID=Europe/Zagreb:20231124T150000
DTSTAMP:20260423T135539
CREATED:20230511T103024Z
LAST-MODIFIED:20250929T130946Z
UID:10000221-1700816400-1700838000@www.pak.hr
SUMMARY:Ništetnost i pobijanje odluka glavne skupštine/skupštine i nadzornog odbora društva kapitala
DESCRIPTION:
URL:https://www.pak.hr/event/nistetnost-i-pobijanje-odluka-glavne-skupstine-skupstine-i-nadzornog-odbora-drustva-kapitala-2/
END:VEVENT
BEGIN:VEVENT
DTSTART;TZID=Europe/Zagreb:20231124T090000
DTEND;TZID=Europe/Zagreb:20231124T150000
DTSTAMP:20260423T135539
CREATED:20230511T103025Z
LAST-MODIFIED:20250929T130946Z
UID:10000218-1700816400-1700838000@www.pak.hr
SUMMARY:Tehnike pisanja prvostupanjske kaznene presude i citiranje zakona u sudskim odlukama
DESCRIPTION:
URL:https://www.pak.hr/event/tehnike-pisanja-prvostupanjske-kaznene-presude-i-citiranje-zakona-u-sudskim-odlukama/
END:VEVENT
END:VCALENDAR