BEGIN:VCALENDAR
VERSION:2.0
PRODID:-//Pravosudna akademija - ECPv6.15.20//NONSGML v1.0//EN
CALSCALE:GREGORIAN
METHOD:PUBLISH
X-ORIGINAL-URL:https://www.pak.hr
X-WR-CALDESC:Događaji za Pravosudna akademija
REFRESH-INTERVAL;VALUE=DURATION:PT1H
X-Robots-Tag:noindex
X-PUBLISHED-TTL:PT1H
BEGIN:VTIMEZONE
TZID:Europe/Zagreb
BEGIN:DAYLIGHT
TZOFFSETFROM:+0100
TZOFFSETTO:+0200
TZNAME:CEST
DTSTART:20240331T010000
END:DAYLIGHT
BEGIN:STANDARD
TZOFFSETFROM:+0200
TZOFFSETTO:+0100
TZNAME:CET
DTSTART:20241027T010000
END:STANDARD
BEGIN:DAYLIGHT
TZOFFSETFROM:+0100
TZOFFSETTO:+0200
TZNAME:CEST
DTSTART:20250330T010000
END:DAYLIGHT
BEGIN:STANDARD
TZOFFSETFROM:+0200
TZOFFSETTO:+0100
TZNAME:CET
DTSTART:20251026T010000
END:STANDARD
BEGIN:DAYLIGHT
TZOFFSETFROM:+0100
TZOFFSETTO:+0200
TZNAME:CEST
DTSTART:20260329T010000
END:DAYLIGHT
BEGIN:STANDARD
TZOFFSETFROM:+0200
TZOFFSETTO:+0100
TZNAME:CET
DTSTART:20261025T010000
END:STANDARD
END:VTIMEZONE
BEGIN:VEVENT
DTSTART;TZID=Europe/Zagreb:20250428T090000
DTEND;TZID=Europe/Zagreb:20250428T150000
DTSTAMP:20260423T104333
CREATED:20250102T142054Z
LAST-MODIFIED:20250929T131127Z
UID:10000952-1745830800-1745852400@www.pak.hr
SUMMARY:Troškovi stečajnog postupka i njihov obračun
DESCRIPTION:
URL:https://www.pak.hr/event/troskovi-stecajnog-postupka-i-njihov-obracun-3/
LOCATION:Rijeka
END:VEVENT
BEGIN:VEVENT
DTSTART;TZID=Europe/Zagreb:20250428T090000
DTEND;TZID=Europe/Zagreb:20250428T150000
DTSTAMP:20260423T104334
CREATED:20250102T142055Z
LAST-MODIFIED:20250929T131132Z
UID:10000954-1745830800-1745852400@www.pak.hr
SUMMARY:Proboj pravne osobnosti i pobijanje pravnih radnji dužnika
DESCRIPTION:Nakon radionice polaznici će moći odrediti aktivnu/pasivnu legitimaciju stranke u postupku i razlikovati zakonske pretpostavke odgovornosti člana društva i člana uprave.
URL:https://www.pak.hr/event/proboj-pravne-osobnosti-i-pobijanje-pravnih-radnji-duznika/
LOCATION:Osijek
END:VEVENT
BEGIN:VEVENT
DTSTART;TZID=Europe/Zagreb:20250428T090000
DTEND;TZID=Europe/Zagreb:20250428T150000
DTSTAMP:20260423T104334
CREATED:20250102T142055Z
LAST-MODIFIED:20250929T131131Z
UID:10000955-1745830800-1745852400@www.pak.hr
SUMMARY:Proboj pravne osobnosti i pobijanje pravnih radnji dužnika
DESCRIPTION:Nakon radionice polaznici će moći odrediti aktivnu/pasivnu legitimaciju stranke u postupku i razlikovati zakonske pretpostavke odgovornosti člana društva i člana uprave.
URL:https://www.pak.hr/event/proboj-pravne-osobnosti-i-pobijanje-pravnih-radnji-duznika-2/
LOCATION:Split
END:VEVENT
BEGIN:VEVENT
DTSTART;TZID=Europe/Zagreb:20250428T090000
DTEND;TZID=Europe/Zagreb:20250428T150000
DTSTAMP:20260423T104334
CREATED:20250102T142055Z
LAST-MODIFIED:20250929T131131Z
UID:10000957-1745830800-1745852400@www.pak.hr
SUMMARY:Proboj pravne osobnosti i pobijanje pravnih radnji dužnika
DESCRIPTION:Nakon radionice polaznici će moći odrediti aktivnu/pasivnu legitimaciju stranke u postupku i razlikovati zakonske pretpostavke odgovornosti člana društva i člana uprave.
URL:https://www.pak.hr/event/proboj-pravne-osobnosti-i-pobijanje-pravnih-radnji-duznika-3/
LOCATION:Zagreb
END:VEVENT
END:VCALENDAR