BEGIN:VCALENDAR
VERSION:2.0
PRODID:-//Pravosudna akademija - ECPv6.15.20//NONSGML v1.0//EN
CALSCALE:GREGORIAN
METHOD:PUBLISH
X-ORIGINAL-URL:https://www.pak.hr
X-WR-CALDESC:Događaji za Pravosudna akademija
REFRESH-INTERVAL;VALUE=DURATION:PT1H
X-Robots-Tag:noindex
X-PUBLISHED-TTL:PT1H
BEGIN:VTIMEZONE
TZID:Europe/Zagreb
BEGIN:DAYLIGHT
TZOFFSETFROM:+0100
TZOFFSETTO:+0200
TZNAME:CEST
DTSTART:20250330T010000
END:DAYLIGHT
BEGIN:STANDARD
TZOFFSETFROM:+0200
TZOFFSETTO:+0100
TZNAME:CET
DTSTART:20251026T010000
END:STANDARD
BEGIN:DAYLIGHT
TZOFFSETFROM:+0100
TZOFFSETTO:+0200
TZNAME:CEST
DTSTART:20260329T010000
END:DAYLIGHT
BEGIN:STANDARD
TZOFFSETFROM:+0200
TZOFFSETTO:+0100
TZNAME:CET
DTSTART:20261025T010000
END:STANDARD
BEGIN:DAYLIGHT
TZOFFSETFROM:+0100
TZOFFSETTO:+0200
TZNAME:CEST
DTSTART:20270328T010000
END:DAYLIGHT
BEGIN:STANDARD
TZOFFSETFROM:+0200
TZOFFSETTO:+0100
TZNAME:CET
DTSTART:20271031T010000
END:STANDARD
END:VTIMEZONE
BEGIN:VEVENT
DTSTART;TZID=Europe/Zagreb:20260702T090000
DTEND;TZID=Europe/Zagreb:20260702T090000
DTSTAMP:20260424T020216
CREATED:20260122T144229Z
LAST-MODIFIED:20260403T110932Z
UID:10001632-1782982800-1782982800@www.pak.hr
SUMMARY:Sastavnice kaznenog djela davanja mita (s posebnim naglaskom na počinjenje djela službene ili odgovorne osobe izvan granica svojih ovlasti) te kazneni progon pravnih osoba za ovo kazneno djelo
DESCRIPTION:
URL:https://www.pak.hr/event/sastavnice-kaznenog-djela-davanja-mita-s-posebnim-naglaskom-na-pocinjenje-djela-sluzbene-ili-odgovorne-osobe-izvan-granica-svojih-ovlasti-te-kazneni-progon-pravnih-osoba-za-ovo-kazneno-djelo-3-3/
LOCATION:Varaždin
END:VEVENT
BEGIN:VEVENT
DTSTART;TZID=Europe/Zagreb:20260702T090000
DTEND;TZID=Europe/Zagreb:20260702T090000
DTSTAMP:20260424T020216
CREATED:20260122T144229Z
LAST-MODIFIED:20260403T110932Z
UID:10001634-1782982800-1782982800@www.pak.hr
SUMMARY:Psihijatrijska vještačenja u kaznenim postupcima te smještaj neubrojivih osoba i liječenje zatvorenika
DESCRIPTION:
URL:https://www.pak.hr/event/psihijatrijska-vjestacenja-u-kaznenim-postupcima-te-smjestaj-neubrojivih-osoba-i-lijecenje-zatvorenika-3/
LOCATION:Osijek
END:VEVENT
BEGIN:VEVENT
DTSTART;TZID=Europe/Zagreb:20260702T090000
DTEND;TZID=Europe/Zagreb:20260702T090000
DTSTAMP:20260424T020216
CREATED:20260122T144229Z
LAST-MODIFIED:20260403T110927Z
UID:10001635-1782982800-1782982800@www.pak.hr
SUMMARY:Međunarodni pakt o gospodarskim\, socijalnim i kulturnim pravima
DESCRIPTION:
URL:https://www.pak.hr/event/medunarodni-pakt-o-gospodarskim-socijalnim-i-kulturnim-pravima/
LOCATION:Zagreb
END:VEVENT
END:VCALENDAR