BEGIN:VCALENDAR
VERSION:2.0
PRODID:-//Pravosudna akademija - ECPv6.15.20//NONSGML v1.0//EN
CALSCALE:GREGORIAN
METHOD:PUBLISH
X-ORIGINAL-URL:https://www.pak.hr
X-WR-CALDESC:Događaji za Pravosudna akademija
REFRESH-INTERVAL;VALUE=DURATION:PT1H
X-Robots-Tag:noindex
X-PUBLISHED-TTL:PT1H
BEGIN:VTIMEZONE
TZID:Europe/Zagreb
BEGIN:DAYLIGHT
TZOFFSETFROM:+0100
TZOFFSETTO:+0200
TZNAME:CEST
DTSTART:20250330T010000
END:DAYLIGHT
BEGIN:STANDARD
TZOFFSETFROM:+0200
TZOFFSETTO:+0100
TZNAME:CET
DTSTART:20251026T010000
END:STANDARD
BEGIN:DAYLIGHT
TZOFFSETFROM:+0100
TZOFFSETTO:+0200
TZNAME:CEST
DTSTART:20260329T010000
END:DAYLIGHT
BEGIN:STANDARD
TZOFFSETFROM:+0200
TZOFFSETTO:+0100
TZNAME:CET
DTSTART:20261025T010000
END:STANDARD
BEGIN:DAYLIGHT
TZOFFSETFROM:+0100
TZOFFSETTO:+0200
TZNAME:CEST
DTSTART:20270328T010000
END:DAYLIGHT
BEGIN:STANDARD
TZOFFSETFROM:+0200
TZOFFSETTO:+0100
TZNAME:CET
DTSTART:20271031T010000
END:STANDARD
END:VTIMEZONE
BEGIN:VEVENT
DTSTART;TZID=Europe/Zagreb:20260709T090000
DTEND;TZID=Europe/Zagreb:20260709T090000
DTSTAMP:20260424T020213
CREATED:20260122T144548Z
LAST-MODIFIED:20260403T110942Z
UID:10001642-1783587600-1783587600@www.pak.hr
SUMMARY:Uporaba hrvatskog standardnog jezika - pravopis u primjeni sudskog poslovanja
DESCRIPTION:
URL:https://www.pak.hr/event/uporaba-hrvatskog-standardnog-jezika-pravopis-u-primjeni-sudskog-poslovanja-17-3-8/
LOCATION:Osijek
END:VEVENT
BEGIN:VEVENT
DTSTART;TZID=Europe/Zagreb:20260709T090000
DTEND;TZID=Europe/Zagreb:20260709T090000
DTSTAMP:20260424T020213
CREATED:20260122T144548Z
LAST-MODIFIED:20260403T110942Z
UID:10001643-1783587600-1783587600@www.pak.hr
SUMMARY:Zlouporaba procesnih ovlaštenja u upravnom postupku
DESCRIPTION:
URL:https://www.pak.hr/event/zlouporaba-procesnih-ovlastenja-u-upravnom-postupku-2/
LOCATION:Zagreb
END:VEVENT
END:VCALENDAR