BEGIN:VCALENDAR
VERSION:2.0
PRODID:-//Pravosudna akademija - ECPv6.15.20//NONSGML v1.0//EN
CALSCALE:GREGORIAN
METHOD:PUBLISH
X-WR-CALNAME:Pravosudna akademija
X-ORIGINAL-URL:https://www.pak.hr
X-WR-CALDESC:Događaji za Pravosudna akademija
REFRESH-INTERVAL;VALUE=DURATION:PT1H
X-Robots-Tag:noindex
X-PUBLISHED-TTL:PT1H
BEGIN:VTIMEZONE
TZID:Europe/Zagreb
BEGIN:DAYLIGHT
TZOFFSETFROM:+0100
TZOFFSETTO:+0200
TZNAME:CEST
DTSTART:20250330T010000
END:DAYLIGHT
BEGIN:STANDARD
TZOFFSETFROM:+0200
TZOFFSETTO:+0100
TZNAME:CET
DTSTART:20251026T010000
END:STANDARD
BEGIN:DAYLIGHT
TZOFFSETFROM:+0100
TZOFFSETTO:+0200
TZNAME:CEST
DTSTART:20260329T010000
END:DAYLIGHT
BEGIN:STANDARD
TZOFFSETFROM:+0200
TZOFFSETTO:+0100
TZNAME:CET
DTSTART:20261025T010000
END:STANDARD
BEGIN:DAYLIGHT
TZOFFSETFROM:+0100
TZOFFSETTO:+0200
TZNAME:CEST
DTSTART:20270328T010000
END:DAYLIGHT
BEGIN:STANDARD
TZOFFSETFROM:+0200
TZOFFSETTO:+0100
TZNAME:CET
DTSTART:20271031T010000
END:STANDARD
END:VTIMEZONE
BEGIN:VEVENT
DTSTART;TZID=Europe/Zagreb:20260907T090000
DTEND;TZID=Europe/Zagreb:20260907T090000
DTSTAMP:20260424T050330
CREATED:20260122T144614Z
LAST-MODIFIED:20260403T111012Z
UID:10001653-1788771600-1788771600@www.pak.hr
SUMMARY:Obveze nacionalnih sudova u primjeni prava Europske unije
DESCRIPTION:
URL:https://www.pak.hr/event/obveze-nacionalnih-sudova-u-primjeni-prava-europske-unije-8/
LOCATION:Varaždin
END:VEVENT
BEGIN:VEVENT
DTSTART;TZID=Europe/Zagreb:20260907T090000
DTEND;TZID=Europe/Zagreb:20260907T090000
DTSTAMP:20260424T050330
CREATED:20260122T144614Z
LAST-MODIFIED:20260403T111011Z
UID:10001654-1788771600-1788771600@www.pak.hr
SUMMARY:Sastavnice kaznenog djela davanja mita (s posebnim naglaskom na počinjenje djela službene ili odgovorne osobe izvan granica svojih ovlasti) te kazneni progon pravnih osoba za ovo kazneno djelo
DESCRIPTION:
URL:https://www.pak.hr/event/sastavnice-kaznenog-djela-davanja-mita-s-posebnim-naglaskom-na-pocinjenje-djela-sluzbene-ili-odgovorne-osobe-izvan-granica-svojih-ovlasti-te-kazneni-progon-pravnih-osoba-za-ovo-kazneno-djelo-2/
LOCATION:Rijeka
END:VEVENT
BEGIN:VEVENT
DTSTART;TZID=Europe/Zagreb:20260907T090000
DTEND;TZID=Europe/Zagreb:20260907T090000
DTSTAMP:20260424T050330
CREATED:20260122T144614Z
LAST-MODIFIED:20260403T111004Z
UID:10001655-1788771600-1788771600@www.pak.hr
SUMMARY:Ne bis in idem
DESCRIPTION:
URL:https://www.pak.hr/event/ne-bis-in-idem/
LOCATION:Split
END:VEVENT
BEGIN:VEVENT
DTSTART;TZID=Europe/Zagreb:20260907T090000
DTEND;TZID=Europe/Zagreb:20260907T090000
DTSTAMP:20260424T050330
CREATED:20260122T144628Z
LAST-MODIFIED:20260403T111012Z
UID:10001656-1788771600-1788771600@www.pak.hr
SUMMARY:Ujednačavanje sudske prakse općinskih i županijskih sudova - 2026.
DESCRIPTION:
URL:https://www.pak.hr/event/ujednacavanje-sudske-prakse-opcinskih-i-zupanijskih-sudova-2026-2-2/
LOCATION:Zagreb
END:VEVENT
END:VCALENDAR