BEGIN:VCALENDAR
VERSION:2.0
PRODID:-//Pravosudna akademija - ECPv6.15.20//NONSGML v1.0//EN
CALSCALE:GREGORIAN
METHOD:PUBLISH
X-WR-CALNAME:Pravosudna akademija
X-ORIGINAL-URL:https://www.pak.hr
X-WR-CALDESC:Događaji za Pravosudna akademija
REFRESH-INTERVAL;VALUE=DURATION:PT1H
X-Robots-Tag:noindex
X-PUBLISHED-TTL:PT1H
BEGIN:VTIMEZONE
TZID:Europe/Zagreb
BEGIN:DAYLIGHT
TZOFFSETFROM:+0100
TZOFFSETTO:+0200
TZNAME:CEST
DTSTART:20250330T010000
END:DAYLIGHT
BEGIN:STANDARD
TZOFFSETFROM:+0200
TZOFFSETTO:+0100
TZNAME:CET
DTSTART:20251026T010000
END:STANDARD
BEGIN:DAYLIGHT
TZOFFSETFROM:+0100
TZOFFSETTO:+0200
TZNAME:CEST
DTSTART:20260329T010000
END:DAYLIGHT
BEGIN:STANDARD
TZOFFSETFROM:+0200
TZOFFSETTO:+0100
TZNAME:CET
DTSTART:20261025T010000
END:STANDARD
BEGIN:DAYLIGHT
TZOFFSETFROM:+0100
TZOFFSETTO:+0200
TZNAME:CEST
DTSTART:20270328T010000
END:DAYLIGHT
BEGIN:STANDARD
TZOFFSETFROM:+0200
TZOFFSETTO:+0100
TZNAME:CET
DTSTART:20271031T010000
END:STANDARD
END:VTIMEZONE
BEGIN:VEVENT
DTSTART;TZID=Europe/Zagreb:20260908T090000
DTEND;TZID=Europe/Zagreb:20260908T090000
DTSTAMP:20260424T050233
CREATED:20260122T144628Z
LAST-MODIFIED:20260403T111015Z
UID:10001657-1788858000-1788858000@www.pak.hr
SUMMARY:Zemljišnoknjižno pravo
DESCRIPTION:
URL:https://www.pak.hr/event/zemljisnoknjizno-pravo-18-2/
LOCATION:Rijeka
END:VEVENT
BEGIN:VEVENT
DTSTART;TZID=Europe/Zagreb:20260908T090000
DTEND;TZID=Europe/Zagreb:20260908T090000
DTSTAMP:20260424T050233
CREATED:20260122T144628Z
LAST-MODIFIED:20260403T111012Z
UID:10001658-1788858000-1788858000@www.pak.hr
SUMMARY:eSpis i Anon
DESCRIPTION:
URL:https://www.pak.hr/event/espis-i-anon/
LOCATION:Osijek
END:VEVENT
END:VCALENDAR