BEGIN:VCALENDAR
VERSION:2.0
PRODID:-//Pravosudna akademija - ECPv6.15.20//NONSGML v1.0//EN
CALSCALE:GREGORIAN
METHOD:PUBLISH
X-ORIGINAL-URL:https://www.pak.hr
X-WR-CALDESC:Događaji za Pravosudna akademija
REFRESH-INTERVAL;VALUE=DURATION:PT1H
X-Robots-Tag:noindex
X-PUBLISHED-TTL:PT1H
BEGIN:VTIMEZONE
TZID:Europe/Zagreb
BEGIN:DAYLIGHT
TZOFFSETFROM:+0100
TZOFFSETTO:+0200
TZNAME:CEST
DTSTART:20250330T010000
END:DAYLIGHT
BEGIN:STANDARD
TZOFFSETFROM:+0200
TZOFFSETTO:+0100
TZNAME:CET
DTSTART:20251026T010000
END:STANDARD
BEGIN:DAYLIGHT
TZOFFSETFROM:+0100
TZOFFSETTO:+0200
TZNAME:CEST
DTSTART:20260329T010000
END:DAYLIGHT
BEGIN:STANDARD
TZOFFSETFROM:+0200
TZOFFSETTO:+0100
TZNAME:CET
DTSTART:20261025T010000
END:STANDARD
BEGIN:DAYLIGHT
TZOFFSETFROM:+0100
TZOFFSETTO:+0200
TZNAME:CEST
DTSTART:20270328T010000
END:DAYLIGHT
BEGIN:STANDARD
TZOFFSETFROM:+0200
TZOFFSETTO:+0100
TZNAME:CET
DTSTART:20271031T010000
END:STANDARD
END:VTIMEZONE
BEGIN:VEVENT
DTSTART;TZID=Europe/Zagreb:20260915T090000
DTEND;TZID=Europe/Zagreb:20260915T090000
DTSTAMP:20260424T053205
CREATED:20260122T144900Z
LAST-MODIFIED:20260403T111056Z
UID:10001671-1789462800-1789462800@www.pak.hr
SUMMARY:Djelotvorno upravljanje parničnim postupkom
DESCRIPTION:
URL:https://www.pak.hr/event/djelotvorno-upravljanje-parnicnim-postupkom-2/
LOCATION:Bjelovar
END:VEVENT
BEGIN:VEVENT
DTSTART;TZID=Europe/Zagreb:20260915T090000
DTEND;TZID=Europe/Zagreb:20260915T090000
DTSTAMP:20260424T053205
CREATED:20260122T144900Z
LAST-MODIFIED:20260403T111041Z
UID:10001672-1789462800-1789462800@www.pak.hr
SUMMARY:Tehnike i načini komuniciranja s djecom u pravosuđu
DESCRIPTION:
URL:https://www.pak.hr/event/tehnike-i-nacini-komuniciranja-s-djecom-u-pravosudu/
LOCATION:Varaždin
END:VEVENT
BEGIN:VEVENT
DTSTART;TZID=Europe/Zagreb:20260915T090000
DTEND;TZID=Europe/Zagreb:20260915T090000
DTSTAMP:20260424T053205
CREATED:20260122T144900Z
LAST-MODIFIED:20260403T111041Z
UID:10001673-1789462800-1789462800@www.pak.hr
SUMMARY:Međunarodni pakt o gospodarskim\, socijalnim i kulturnim pravima
DESCRIPTION:
URL:https://www.pak.hr/event/medunarodni-pakt-o-gospodarskim-socijalnim-i-kulturnim-pravima-2/
LOCATION:Rijeka
END:VEVENT
BEGIN:VEVENT
DTSTART;TZID=Europe/Zagreb:20260915T090000
DTEND;TZID=Europe/Zagreb:20260915T090000
DTSTAMP:20260424T053205
CREATED:20260122T144900Z
LAST-MODIFIED:20260403T111041Z
UID:10001674-1789462800-1789462800@www.pak.hr
SUMMARY:Psihijatrijska vještačenja u kaznenim postupcima te smještaj neubrojivih osoba i liječenje zatvorenika
DESCRIPTION:
URL:https://www.pak.hr/event/psihijatrijska-vjestacenja-u-kaznenim-postupcima-te-smjestaj-neubrojivih-osoba-i-lijecenje-zatvorenika-5/
LOCATION:Split
END:VEVENT
BEGIN:VEVENT
DTSTART;TZID=Europe/Zagreb:20260915T090000
DTEND;TZID=Europe/Zagreb:20260916T000000
DTSTAMP:20260424T053205
CREATED:20260122T144659Z
LAST-MODIFIED:20260403T111042Z
UID:10001670-1789462800-1789516800@www.pak.hr
SUMMARY:Suzbijanje pranja novca
DESCRIPTION:
URL:https://www.pak.hr/event/suzbijanje-pranja-novca-6/
LOCATION:Zagreb
END:VEVENT
END:VCALENDAR