BEGIN:VCALENDAR
VERSION:2.0
PRODID:-//Pravosudna akademija - ECPv6.15.20//NONSGML v1.0//EN
CALSCALE:GREGORIAN
METHOD:PUBLISH
X-WR-CALNAME:Pravosudna akademija
X-ORIGINAL-URL:https://www.pak.hr
X-WR-CALDESC:Događaji za Pravosudna akademija
REFRESH-INTERVAL;VALUE=DURATION:PT1H
X-Robots-Tag:noindex
X-PUBLISHED-TTL:PT1H
BEGIN:VTIMEZONE
TZID:Europe/Zagreb
BEGIN:DAYLIGHT
TZOFFSETFROM:+0100
TZOFFSETTO:+0200
TZNAME:CEST
DTSTART:20250330T010000
END:DAYLIGHT
BEGIN:STANDARD
TZOFFSETFROM:+0200
TZOFFSETTO:+0100
TZNAME:CET
DTSTART:20251026T010000
END:STANDARD
BEGIN:DAYLIGHT
TZOFFSETFROM:+0100
TZOFFSETTO:+0200
TZNAME:CEST
DTSTART:20260329T010000
END:DAYLIGHT
BEGIN:STANDARD
TZOFFSETFROM:+0200
TZOFFSETTO:+0100
TZNAME:CET
DTSTART:20261025T010000
END:STANDARD
BEGIN:DAYLIGHT
TZOFFSETFROM:+0100
TZOFFSETTO:+0200
TZNAME:CEST
DTSTART:20270328T010000
END:DAYLIGHT
BEGIN:STANDARD
TZOFFSETFROM:+0200
TZOFFSETTO:+0100
TZNAME:CET
DTSTART:20271031T010000
END:STANDARD
END:VTIMEZONE
BEGIN:VEVENT
DTSTART;TZID=Europe/Zagreb:20261001T090000
DTEND;TZID=Europe/Zagreb:20261001T090000
DTSTAMP:20260424T045515
CREATED:20260122T145248Z
LAST-MODIFIED:20260403T111210Z
UID:10001708-1790845200-1790845200@www.pak.hr
SUMMARY:Komunikacijske vještine
DESCRIPTION:
URL:https://www.pak.hr/event/komunikacijske-vjestine-21/
LOCATION:Bjelovar
END:VEVENT
BEGIN:VEVENT
DTSTART;TZID=Europe/Zagreb:20261001T090000
DTEND;TZID=Europe/Zagreb:20261001T090000
DTSTAMP:20260424T045515
CREATED:20260122T145248Z
LAST-MODIFIED:20260403T111210Z
UID:10001709-1790845200-1790845200@www.pak.hr
SUMMARY:Jačanje kapaciteta za upravljanje stresom i mentalna dobrobit
DESCRIPTION:
URL:https://www.pak.hr/event/jacanje-kapaciteta-za-upravljanje-stresom-i-mentalna-dobrobit-6/
LOCATION:Osijek
END:VEVENT
BEGIN:VEVENT
DTSTART;TZID=Europe/Zagreb:20261001T090000
DTEND;TZID=Europe/Zagreb:20261001T090000
DTSTAMP:20260424T045515
CREATED:20260122T145248Z
LAST-MODIFIED:20260403T111208Z
UID:10001710-1790845200-1790845200@www.pak.hr
SUMMARY:Tehnike i načini komuniciranja s djecom u pravosuđu
DESCRIPTION:
URL:https://www.pak.hr/event/tehnike-i-nacini-komuniciranja-s-djecom-u-pravosudu-3/
LOCATION:Split
END:VEVENT
BEGIN:VEVENT
DTSTART;TZID=Europe/Zagreb:20261001T090000
DTEND;TZID=Europe/Zagreb:20261001T090000
DTSTAMP:20260424T045515
CREATED:20260122T145303Z
LAST-MODIFIED:20260403T111210Z
UID:10001711-1790845200-1790845200@www.pak.hr
SUMMARY:Djelotvorno upravljanje parničnim postupkom
DESCRIPTION:
URL:https://www.pak.hr/event/djelotvorno-upravljanje-parnicnim-postupkom-2-2-2/
LOCATION:Zagreb
END:VEVENT
BEGIN:VEVENT
DTSTART;TZID=Europe/Zagreb:20261001T090000
DTEND;TZID=Europe/Zagreb:20261001T090000
DTSTAMP:20260424T045515
CREATED:20260122T145303Z
LAST-MODIFIED:20260403T111210Z
UID:10001712-1790845200-1790845200@www.pak.hr
SUMMARY:Uporaba hrvatskog standardnog jezika u pismenima i odlukama pravosudnih tijela
DESCRIPTION:
URL:https://www.pak.hr/event/uporaba-hrvatskog-standardnog-jezika-u-pismenima-i-odlukama-pravosudnih-tijela-13/
LOCATION:Varaždin
END:VEVENT
END:VCALENDAR