BEGIN:VCALENDAR
VERSION:2.0
PRODID:-//Pravosudna akademija - ECPv6.15.20//NONSGML v1.0//EN
CALSCALE:GREGORIAN
METHOD:PUBLISH
X-ORIGINAL-URL:https://www.pak.hr
X-WR-CALDESC:Događaji za Pravosudna akademija
REFRESH-INTERVAL;VALUE=DURATION:PT1H
X-Robots-Tag:noindex
X-PUBLISHED-TTL:PT1H
BEGIN:VTIMEZONE
TZID:Europe/Zagreb
BEGIN:DAYLIGHT
TZOFFSETFROM:+0100
TZOFFSETTO:+0200
TZNAME:CEST
DTSTART:20250330T010000
END:DAYLIGHT
BEGIN:STANDARD
TZOFFSETFROM:+0200
TZOFFSETTO:+0100
TZNAME:CET
DTSTART:20251026T010000
END:STANDARD
BEGIN:DAYLIGHT
TZOFFSETFROM:+0100
TZOFFSETTO:+0200
TZNAME:CEST
DTSTART:20260329T010000
END:DAYLIGHT
BEGIN:STANDARD
TZOFFSETFROM:+0200
TZOFFSETTO:+0100
TZNAME:CET
DTSTART:20261025T010000
END:STANDARD
BEGIN:DAYLIGHT
TZOFFSETFROM:+0100
TZOFFSETTO:+0200
TZNAME:CEST
DTSTART:20270328T010000
END:DAYLIGHT
BEGIN:STANDARD
TZOFFSETFROM:+0200
TZOFFSETTO:+0100
TZNAME:CET
DTSTART:20271031T010000
END:STANDARD
END:VTIMEZONE
BEGIN:VEVENT
DTSTART;TZID=Europe/Zagreb:20261005T090000
DTEND;TZID=Europe/Zagreb:20261005T090000
DTSTAMP:20260424T064546
CREATED:20260122T145318Z
LAST-MODIFIED:20260403T111240Z
UID:10001720-1791190800-1791190800@www.pak.hr
SUMMARY:Načini komunikacije s medijima i društvene mreže
DESCRIPTION:
URL:https://www.pak.hr/event/nacini-komunikacije-s-medijima-i-drustvene-mreze-15-2-2/
LOCATION:Zagreb
END:VEVENT
BEGIN:VEVENT
DTSTART;TZID=Europe/Zagreb:20261005T090000
DTEND;TZID=Europe/Zagreb:20261005T090000
DTSTAMP:20260424T064546
CREATED:20260122T145318Z
LAST-MODIFIED:20260403T111239Z
UID:10001718-1791190800-1791190800@www.pak.hr
SUMMARY:Suzbijanje seksualnog nasilja i seksualnog uznemiravanja i standardi zaštite prava djece žrtava spolnog zlostavljanja i zanemarivanja u domaćem i europskom zakonodavstvu
DESCRIPTION:
URL:https://www.pak.hr/event/suzbijanje-seksualnog-nasilja-i-seksualnog-uznemiravanja-i-standardi-zastite-prava-djece-zrtava-spolnog-zlostavljanja-i-zanemarivanja-u-domacem-i-europskom-zakonodavstvu/
LOCATION:Split
END:VEVENT
BEGIN:VEVENT
DTSTART;TZID=Europe/Zagreb:20261005T090000
DTEND;TZID=Europe/Zagreb:20261005T090000
DTSTAMP:20260424T064546
CREATED:20260122T145318Z
LAST-MODIFIED:20260403T111240Z
UID:10001719-1791190800-1791190800@www.pak.hr
SUMMARY:Zemljišnoknjižno pravo
DESCRIPTION:
URL:https://www.pak.hr/event/zemljisnoknjizno-pravo-19-2/
LOCATION:Zagreb
END:VEVENT
BEGIN:VEVENT
DTSTART;TZID=Europe/Zagreb:20261005T090000
DTEND;TZID=Europe/Zagreb:20261005T090000
DTSTAMP:20260424T064546
CREATED:20260122T145333Z
LAST-MODIFIED:20260403T111222Z
UID:10001721-1791190800-1791190800@www.pak.hr
SUMMARY:Uporaba hrvatskog standardnog jezika u pismenima i odlukama pravosudnih tijela
DESCRIPTION:
URL:https://www.pak.hr/event/uporaba-hrvatskog-standardnog-jezika-u-pismenima-i-odlukama-pravosudnih-tijela-13-2/
LOCATION:Rijeka
END:VEVENT
BEGIN:VEVENT
DTSTART;TZID=Europe/Zagreb:20261005T090000
DTEND;TZID=Europe/Zagreb:20261005T090000
DTSTAMP:20260424T064546
CREATED:20260122T145333Z
LAST-MODIFIED:20260403T111240Z
UID:10001722-1791190800-1791190800@www.pak.hr
SUMMARY:Troškovi stečajnog postupka i ostale obveze stečajne mase
DESCRIPTION:
URL:https://www.pak.hr/event/troskovi-stecajnog-postupka-i-ostale-obveze-stecajne-mase/
LOCATION:Zagreb
END:VEVENT
BEGIN:VEVENT
DTSTART;TZID=Europe/Zagreb:20261005T090000
DTEND;TZID=Europe/Zagreb:20261005T090000
DTSTAMP:20260424T064546
CREATED:20260122T145333Z
LAST-MODIFIED:20260403T111239Z
UID:10001723-1791190800-1791190800@www.pak.hr
SUMMARY:Komunikacijske vještine
DESCRIPTION:
URL:https://www.pak.hr/event/komunikacijske-vjestine-21-2/
LOCATION:Varaždin
END:VEVENT
END:VCALENDAR