BEGIN:VCALENDAR
VERSION:2.0
PRODID:-//Pravosudna akademija - ECPv6.15.20//NONSGML v1.0//EN
CALSCALE:GREGORIAN
METHOD:PUBLISH
X-WR-CALNAME:Pravosudna akademija
X-ORIGINAL-URL:https://www.pak.hr
X-WR-CALDESC:Događaji za Pravosudna akademija
REFRESH-INTERVAL;VALUE=DURATION:PT1H
X-Robots-Tag:noindex
X-PUBLISHED-TTL:PT1H
BEGIN:VTIMEZONE
TZID:Europe/Zagreb
BEGIN:DAYLIGHT
TZOFFSETFROM:+0100
TZOFFSETTO:+0200
TZNAME:CEST
DTSTART:20250330T010000
END:DAYLIGHT
BEGIN:STANDARD
TZOFFSETFROM:+0200
TZOFFSETTO:+0100
TZNAME:CET
DTSTART:20251026T010000
END:STANDARD
BEGIN:DAYLIGHT
TZOFFSETFROM:+0100
TZOFFSETTO:+0200
TZNAME:CEST
DTSTART:20260329T010000
END:DAYLIGHT
BEGIN:STANDARD
TZOFFSETFROM:+0200
TZOFFSETTO:+0100
TZNAME:CET
DTSTART:20261025T010000
END:STANDARD
BEGIN:DAYLIGHT
TZOFFSETFROM:+0100
TZOFFSETTO:+0200
TZNAME:CEST
DTSTART:20270328T010000
END:DAYLIGHT
BEGIN:STANDARD
TZOFFSETFROM:+0200
TZOFFSETTO:+0100
TZNAME:CET
DTSTART:20271031T010000
END:STANDARD
END:VTIMEZONE
BEGIN:VEVENT
DTSTART;TZID=Europe/Zagreb:20261015T090000
DTEND;TZID=Europe/Zagreb:20261015T090000
DTSTAMP:20260424T064550
CREATED:20260122T145418Z
LAST-MODIFIED:20260403T111310Z
UID:10001739-1792054800-1792054800@www.pak.hr
SUMMARY:Uporaba hrvatskog standardnog jezika u pismenima i odlukama pravosudnih tijela
DESCRIPTION:
URL:https://www.pak.hr/event/uporaba-hrvatskog-standardnog-jezika-u-pismenima-i-odlukama-pravosudnih-tijela-13-3/
LOCATION:Zagreb
END:VEVENT
BEGIN:VEVENT
DTSTART;TZID=Europe/Zagreb:20261015T090000
DTEND;TZID=Europe/Zagreb:20261015T090000
DTSTAMP:20260424T064550
CREATED:20260122T145418Z
LAST-MODIFIED:20260403T111310Z
UID:10001740-1792054800-1792054800@www.pak.hr
SUMMARY:Tužba za ispravak i brisovna tužba
DESCRIPTION:
URL:https://www.pak.hr/event/tuzba-za-ispravak-i-brisovna-tuzba/
LOCATION:Zagreb
END:VEVENT
BEGIN:VEVENT
DTSTART;TZID=Europe/Zagreb:20261015T090000
DTEND;TZID=Europe/Zagreb:20261015T090000
DTSTAMP:20260424T064550
CREATED:20260122T145433Z
LAST-MODIFIED:20260403T111310Z
UID:10001741-1792054800-1792054800@www.pak.hr
SUMMARY:Suzbijanje trgovanja ljudima
DESCRIPTION:
URL:https://www.pak.hr/event/suzbijanje-trgovanja-ljudima-6/
LOCATION:Osijek
END:VEVENT
END:VCALENDAR