BEGIN:VCALENDAR
VERSION:2.0
PRODID:-//Pravosudna akademija - ECPv6.15.20//NONSGML v1.0//EN
CALSCALE:GREGORIAN
METHOD:PUBLISH
X-ORIGINAL-URL:https://www.pak.hr
X-WR-CALDESC:Događaji za Pravosudna akademija
REFRESH-INTERVAL;VALUE=DURATION:PT1H
X-Robots-Tag:noindex
X-PUBLISHED-TTL:PT1H
BEGIN:VTIMEZONE
TZID:Europe/Zagreb
BEGIN:DAYLIGHT
TZOFFSETFROM:+0100
TZOFFSETTO:+0200
TZNAME:CEST
DTSTART:20250330T010000
END:DAYLIGHT
BEGIN:STANDARD
TZOFFSETFROM:+0200
TZOFFSETTO:+0100
TZNAME:CET
DTSTART:20251026T010000
END:STANDARD
BEGIN:DAYLIGHT
TZOFFSETFROM:+0100
TZOFFSETTO:+0200
TZNAME:CEST
DTSTART:20260329T010000
END:DAYLIGHT
BEGIN:STANDARD
TZOFFSETFROM:+0200
TZOFFSETTO:+0100
TZNAME:CET
DTSTART:20261025T010000
END:STANDARD
BEGIN:DAYLIGHT
TZOFFSETFROM:+0100
TZOFFSETTO:+0200
TZNAME:CEST
DTSTART:20270328T010000
END:DAYLIGHT
BEGIN:STANDARD
TZOFFSETFROM:+0200
TZOFFSETTO:+0100
TZNAME:CET
DTSTART:20271031T010000
END:STANDARD
END:VTIMEZONE
BEGIN:VEVENT
DTSTART;TZID=Europe/Zagreb:20261020T090000
DTEND;TZID=Europe/Zagreb:20261020T090000
DTSTAMP:20260424T064546
CREATED:20260122T145448Z
LAST-MODIFIED:20260403T111339Z
UID:10001750-1792486800-1792486800@www.pak.hr
SUMMARY:Obiteljski zakon - problemi u praksi
DESCRIPTION:
URL:https://www.pak.hr/event/obiteljski-zakon-problemi-u-praksi-6-2/
LOCATION:Osijek
END:VEVENT
BEGIN:VEVENT
DTSTART;TZID=Europe/Zagreb:20261020T090000
DTEND;TZID=Europe/Zagreb:20261020T090000
DTSTAMP:20260424T064546
CREATED:20260122T145503Z
LAST-MODIFIED:20260403T111339Z
UID:10001751-1792486800-1792486800@www.pak.hr
SUMMARY:Suzbijanje seksualnog nasilja i seksualnog uznemiravanja i standardi zaštite prava djece žrtava spolnog zlostavljanja i zanemarivanja u domaćem i europskom zakonodavstvu
DESCRIPTION:
URL:https://www.pak.hr/event/suzbijanje-seksualnog-nasilja-i-seksualnog-uznemiravanja-i-standardi-zastite-prava-djece-zrtava-spolnog-zlostavljanja-i-zanemarivanja-u-domacem-i-europskom-zakonodavstvu-2/
LOCATION:Zagreb
END:VEVENT
BEGIN:VEVENT
DTSTART;TZID=Europe/Zagreb:20261020T090000
DTEND;TZID=Europe/Zagreb:20261020T090000
DTSTAMP:20260424T064546
CREATED:20260122T145503Z
LAST-MODIFIED:20260403T111339Z
UID:10001752-1792486800-1792486800@www.pak.hr
SUMMARY:Zaštita okoliša
DESCRIPTION:
URL:https://www.pak.hr/event/zastita-okolisa-5/
LOCATION:Rijeka
END:VEVENT
END:VCALENDAR