BEGIN:VCALENDAR
VERSION:2.0
PRODID:-//Pravosudna akademija - ECPv6.15.20//NONSGML v1.0//EN
CALSCALE:GREGORIAN
METHOD:PUBLISH
X-WR-CALNAME:Pravosudna akademija
X-ORIGINAL-URL:https://www.pak.hr
X-WR-CALDESC:Događaji za Pravosudna akademija
REFRESH-INTERVAL;VALUE=DURATION:PT1H
X-Robots-Tag:noindex
X-PUBLISHED-TTL:PT1H
BEGIN:VTIMEZONE
TZID:Europe/Zagreb
BEGIN:DAYLIGHT
TZOFFSETFROM:+0100
TZOFFSETTO:+0200
TZNAME:CEST
DTSTART:20250330T010000
END:DAYLIGHT
BEGIN:STANDARD
TZOFFSETFROM:+0200
TZOFFSETTO:+0100
TZNAME:CET
DTSTART:20251026T010000
END:STANDARD
BEGIN:DAYLIGHT
TZOFFSETFROM:+0100
TZOFFSETTO:+0200
TZNAME:CEST
DTSTART:20260329T010000
END:DAYLIGHT
BEGIN:STANDARD
TZOFFSETFROM:+0200
TZOFFSETTO:+0100
TZNAME:CET
DTSTART:20261025T010000
END:STANDARD
BEGIN:DAYLIGHT
TZOFFSETFROM:+0100
TZOFFSETTO:+0200
TZNAME:CEST
DTSTART:20270328T010000
END:DAYLIGHT
BEGIN:STANDARD
TZOFFSETFROM:+0200
TZOFFSETTO:+0100
TZNAME:CET
DTSTART:20271031T010000
END:STANDARD
END:VTIMEZONE
BEGIN:VEVENT
DTSTART;TZID=Europe/Zagreb:20261026T090000
DTEND;TZID=Europe/Zagreb:20261026T090000
DTSTAMP:20260424T064515
CREATED:20260122T145533Z
LAST-MODIFIED:20260403T111430Z
UID:10001762-1793005200-1793005200@www.pak.hr
SUMMARY:Upravljanje vremenom i rasporedom
DESCRIPTION:
URL:https://www.pak.hr/event/upravljanje-vremenom-i-rasporedom-6-2/
LOCATION:Split
END:VEVENT
BEGIN:VEVENT
DTSTART;TZID=Europe/Zagreb:20261026T090000
DTEND;TZID=Europe/Zagreb:20261026T090000
DTSTAMP:20260424T064515
CREATED:20260122T145533Z
LAST-MODIFIED:20260403T111423Z
UID:10001763-1793005200-1793005200@www.pak.hr
SUMMARY:Komunikacijske vještine
DESCRIPTION:
URL:https://www.pak.hr/event/komunikacijske-vjestine-21-6/
LOCATION:Zagreb
END:VEVENT
BEGIN:VEVENT
DTSTART;TZID=Europe/Zagreb:20261026T090000
DTEND;TZID=Europe/Zagreb:20261026T090000
DTSTAMP:20260424T064515
CREATED:20260122T145533Z
LAST-MODIFIED:20260403T111423Z
UID:10001764-1793005200-1793005200@www.pak.hr
SUMMARY:Informatičke vještine
DESCRIPTION:
URL:https://www.pak.hr/event/informaticke-vjestine-2/
LOCATION:Varaždin
END:VEVENT
BEGIN:VEVENT
DTSTART;TZID=Europe/Zagreb:20261026T090000
DTEND;TZID=Europe/Zagreb:20261026T090000
DTSTAMP:20260424T064515
CREATED:20260122T145533Z
LAST-MODIFIED:20260403T111423Z
UID:10001765-1793005200-1793005200@www.pak.hr
SUMMARY:Tužba za ispravak i brisovna tužba
DESCRIPTION:
URL:https://www.pak.hr/event/tuzba-za-ispravak-i-brisovna-tuzba-2/
LOCATION:Rijeka
END:VEVENT
BEGIN:VEVENT
DTSTART;TZID=Europe/Zagreb:20261026T090000
DTEND;TZID=Europe/Zagreb:20261028T000000
DTSTAMP:20260424T064515
CREATED:20260122T145548Z
LAST-MODIFIED:20260403T111430Z
UID:10001766-1793005200-1793145600@www.pak.hr
SUMMARY:Legal language training in cooperation in cross-border organised crime
DESCRIPTION:
URL:https://www.pak.hr/event/legal-language-training-in-cooperation-in-cross-border-organised-crime/
LOCATION:Zagreb
END:VEVENT
END:VCALENDAR