BEGIN:VCALENDAR
VERSION:2.0
PRODID:-//Pravosudna akademija - ECPv6.15.20//NONSGML v1.0//EN
CALSCALE:GREGORIAN
METHOD:PUBLISH
X-ORIGINAL-URL:https://www.pak.hr
X-WR-CALDESC:Događaji za Pravosudna akademija
REFRESH-INTERVAL;VALUE=DURATION:PT1H
X-Robots-Tag:noindex
X-PUBLISHED-TTL:PT1H
BEGIN:VTIMEZONE
TZID:Europe/Zagreb
BEGIN:DAYLIGHT
TZOFFSETFROM:+0100
TZOFFSETTO:+0200
TZNAME:CEST
DTSTART:20250330T010000
END:DAYLIGHT
BEGIN:STANDARD
TZOFFSETFROM:+0200
TZOFFSETTO:+0100
TZNAME:CET
DTSTART:20251026T010000
END:STANDARD
BEGIN:DAYLIGHT
TZOFFSETFROM:+0100
TZOFFSETTO:+0200
TZNAME:CEST
DTSTART:20260329T010000
END:DAYLIGHT
BEGIN:STANDARD
TZOFFSETFROM:+0200
TZOFFSETTO:+0100
TZNAME:CET
DTSTART:20261025T010000
END:STANDARD
BEGIN:DAYLIGHT
TZOFFSETFROM:+0100
TZOFFSETTO:+0200
TZNAME:CEST
DTSTART:20270328T010000
END:DAYLIGHT
BEGIN:STANDARD
TZOFFSETFROM:+0200
TZOFFSETTO:+0100
TZNAME:CET
DTSTART:20271031T010000
END:STANDARD
END:VTIMEZONE
BEGIN:VEVENT
DTSTART;TZID=Europe/Zagreb:20261029T090000
DTEND;TZID=Europe/Zagreb:20261029T090000
DTSTAMP:20260424T064547
CREATED:20260122T145603Z
LAST-MODIFIED:20260403T111442Z
UID:10001775-1793264400-1793264400@www.pak.hr
SUMMARY:Pravo EU i pravo VE - kaznenopravni aspekt
DESCRIPTION:
URL:https://www.pak.hr/event/pravo-eu-i-pravo-ve-kaznenopravni-aspekt-3-5/
LOCATION:Zagreb
END:VEVENT
BEGIN:VEVENT
DTSTART;TZID=Europe/Zagreb:20261029T090000
DTEND;TZID=Europe/Zagreb:20261029T090000
DTSTAMP:20260424T064547
CREATED:20260122T145618Z
LAST-MODIFIED:20260403T111442Z
UID:10001776-1793264400-1793264400@www.pak.hr
SUMMARY:Jačanje kapaciteta za upravljanje stresom i mentalna dobrobit
DESCRIPTION:
URL:https://www.pak.hr/event/jacanje-kapaciteta-za-upravljanje-stresom-i-mentalna-dobrobit-10/
LOCATION:Zagreb
END:VEVENT
BEGIN:VEVENT
DTSTART;TZID=Europe/Zagreb:20261029T090000
DTEND;TZID=Europe/Zagreb:20261029T090000
DTSTAMP:20260424T064547
CREATED:20260122T145618Z
LAST-MODIFIED:20260403T111442Z
UID:10001777-1793264400-1793264400@www.pak.hr
SUMMARY:Zemljišnoknjižno pravo
DESCRIPTION:
URL:https://www.pak.hr/event/zemljisnoknjizno-pravo-19-3/
LOCATION:Varaždin
END:VEVENT
BEGIN:VEVENT
DTSTART;TZID=Europe/Zagreb:20261029T090000
DTEND;TZID=Europe/Zagreb:20261029T090000
DTSTAMP:20260424T064547
CREATED:20260122T145618Z
LAST-MODIFIED:20260403T111442Z
UID:10001778-1793264400-1793264400@www.pak.hr
SUMMARY:Promicanje prava na različitost i borba protiv netrpeljivosti i mržnje
DESCRIPTION:
URL:https://www.pak.hr/event/promicanje-prava-na-razlicitost-i-borba-protiv-netrpeljivosti-i-mrznje-7-2/
LOCATION:Split
END:VEVENT
END:VCALENDAR