BEGIN:VCALENDAR
VERSION:2.0
PRODID:-//Pravosudna akademija - ECPv6.15.20//NONSGML v1.0//EN
CALSCALE:GREGORIAN
METHOD:PUBLISH
X-WR-CALNAME:Pravosudna akademija
X-ORIGINAL-URL:https://www.pak.hr
X-WR-CALDESC:Događaji za Pravosudna akademija
REFRESH-INTERVAL;VALUE=DURATION:PT1H
X-Robots-Tag:noindex
X-PUBLISHED-TTL:PT1H
BEGIN:VTIMEZONE
TZID:Europe/Zagreb
BEGIN:DAYLIGHT
TZOFFSETFROM:+0100
TZOFFSETTO:+0200
TZNAME:CEST
DTSTART:20250330T010000
END:DAYLIGHT
BEGIN:STANDARD
TZOFFSETFROM:+0200
TZOFFSETTO:+0100
TZNAME:CET
DTSTART:20251026T010000
END:STANDARD
BEGIN:DAYLIGHT
TZOFFSETFROM:+0100
TZOFFSETTO:+0200
TZNAME:CEST
DTSTART:20260329T010000
END:DAYLIGHT
BEGIN:STANDARD
TZOFFSETFROM:+0200
TZOFFSETTO:+0100
TZNAME:CET
DTSTART:20261025T010000
END:STANDARD
BEGIN:DAYLIGHT
TZOFFSETFROM:+0100
TZOFFSETTO:+0200
TZNAME:CEST
DTSTART:20270328T010000
END:DAYLIGHT
BEGIN:STANDARD
TZOFFSETFROM:+0200
TZOFFSETTO:+0100
TZNAME:CET
DTSTART:20271031T010000
END:STANDARD
END:VTIMEZONE
BEGIN:VEVENT
DTSTART;TZID=Europe/Zagreb:20261104T090000
DTEND;TZID=Europe/Zagreb:20261104T090000
DTSTAMP:20260424T100323
CREATED:20260122T145648Z
LAST-MODIFIED:20260403T111506Z
UID:10001787-1793782800-1793782800@www.pak.hr
SUMMARY:Suzbijanje seksualnog nasilja i seksualnog uznemiravanja i standardi zaštite prava djece žrtava spolnog zlostavljanja i zanemarivanja u domaćem i europskom zakonodavstvu
DESCRIPTION:
URL:https://www.pak.hr/event/suzbijanje-seksualnog-nasilja-i-seksualnog-uznemiravanja-i-standardi-zastite-prava-djece-zrtava-spolnog-zlostavljanja-i-zanemarivanja-u-domacem-i-europskom-zakonodavstvu-3/
LOCATION:Osijek
END:VEVENT
BEGIN:VEVENT
DTSTART;TZID=Europe/Zagreb:20261104T090000
DTEND;TZID=Europe/Zagreb:20261104T090000
DTSTAMP:20260424T100323
CREATED:20260122T145648Z
LAST-MODIFIED:20260403T111521Z
UID:10001788-1793782800-1793782800@www.pak.hr
SUMMARY:Izmjene Zakona o trgovačkim društvima i Zakona o sudskom registru
DESCRIPTION:
URL:https://www.pak.hr/event/izmjene-zakona-o-trgovackim-drustvima-i-zakona-o-sudskom-registru/
LOCATION:Zagreb
END:VEVENT
BEGIN:VEVENT
DTSTART;TZID=Europe/Zagreb:20261104T090000
DTEND;TZID=Europe/Zagreb:20261104T090000
DTSTAMP:20260424T100323
CREATED:20260122T145648Z
LAST-MODIFIED:20260403T111506Z
UID:10001789-1793782800-1793782800@www.pak.hr
SUMMARY:Obiteljski zakon - problemi u praksi
DESCRIPTION:
URL:https://www.pak.hr/event/obiteljski-zakon-problemi-u-praksi-6-4/
LOCATION:Split
END:VEVENT
BEGIN:VEVENT
DTSTART;TZID=Europe/Zagreb:20261104T090000
DTEND;TZID=Europe/Zagreb:20261104T090000
DTSTAMP:20260424T100323
CREATED:20260122T145648Z
LAST-MODIFIED:20260403T111506Z
UID:10001790-1793782800-1793782800@www.pak.hr
SUMMARY:Informatičke vještine
DESCRIPTION:
URL:https://www.pak.hr/event/informaticke-vjestine-3/
LOCATION:Rijeka
END:VEVENT
BEGIN:VEVENT
DTSTART;TZID=Europe/Zagreb:20261104T090000
DTEND;TZID=Europe/Zagreb:20261104T090000
DTSTAMP:20260424T100323
CREATED:20260122T145703Z
LAST-MODIFIED:20260403T111521Z
UID:10001791-1793782800-1793782800@www.pak.hr
SUMMARY:Kazneni progon financiranja terorizma
DESCRIPTION:
URL:https://www.pak.hr/event/kazneni-progon-financiranja-terorizma-2/
LOCATION:Varaždin
END:VEVENT
END:VCALENDAR