BEGIN:VCALENDAR
VERSION:2.0
PRODID:-//Pravosudna akademija - ECPv6.15.20//NONSGML v1.0//EN
CALSCALE:GREGORIAN
METHOD:PUBLISH
X-ORIGINAL-URL:https://www.pak.hr
X-WR-CALDESC:Događaji za Pravosudna akademija
REFRESH-INTERVAL;VALUE=DURATION:PT1H
X-Robots-Tag:noindex
X-PUBLISHED-TTL:PT1H
BEGIN:VTIMEZONE
TZID:Europe/Zagreb
BEGIN:DAYLIGHT
TZOFFSETFROM:+0100
TZOFFSETTO:+0200
TZNAME:CEST
DTSTART:20250330T010000
END:DAYLIGHT
BEGIN:STANDARD
TZOFFSETFROM:+0200
TZOFFSETTO:+0100
TZNAME:CET
DTSTART:20251026T010000
END:STANDARD
BEGIN:DAYLIGHT
TZOFFSETFROM:+0100
TZOFFSETTO:+0200
TZNAME:CEST
DTSTART:20260329T010000
END:DAYLIGHT
BEGIN:STANDARD
TZOFFSETFROM:+0200
TZOFFSETTO:+0100
TZNAME:CET
DTSTART:20261025T010000
END:STANDARD
BEGIN:DAYLIGHT
TZOFFSETFROM:+0100
TZOFFSETTO:+0200
TZNAME:CEST
DTSTART:20270328T010000
END:DAYLIGHT
BEGIN:STANDARD
TZOFFSETFROM:+0200
TZOFFSETTO:+0100
TZNAME:CET
DTSTART:20271031T010000
END:STANDARD
END:VTIMEZONE
BEGIN:VEVENT
DTSTART;TZID=Europe/Zagreb:20261105T090000
DTEND;TZID=Europe/Zagreb:20261105T090000
DTSTAMP:20260424T100131
CREATED:20260122T145703Z
LAST-MODIFIED:20260403T111521Z
UID:10001793-1793869200-1793869200@www.pak.hr
SUMMARY:Tužba za ispravak i brisovna tužba
DESCRIPTION:
URL:https://www.pak.hr/event/tuzba-za-ispravak-i-brisovna-tuzba-5/
LOCATION:Zagreb
END:VEVENT
BEGIN:VEVENT
DTSTART;TZID=Europe/Zagreb:20261105T090000
DTEND;TZID=Europe/Zagreb:20261105T090000
DTSTAMP:20260424T100131
CREATED:20260122T145703Z
LAST-MODIFIED:20260403T111521Z
UID:10001792-1793869200-1793869200@www.pak.hr
SUMMARY:Tužba za ispravak i brisovna tužba
DESCRIPTION:
URL:https://www.pak.hr/event/tuzba-za-ispravak-i-brisovna-tuzba-6/
LOCATION:Zadar
END:VEVENT
BEGIN:VEVENT
DTSTART;TZID=Europe/Zagreb:20261105T090000
DTEND;TZID=Europe/Zagreb:20261106T000000
DTSTAMP:20260424T100131
CREATED:20260122T145703Z
LAST-MODIFIED:20260403T111521Z
UID:10001794-1793869200-1793923200@www.pak.hr
SUMMARY:Ne bis in idem\, zabrana reformatio in peius i obnova postupka
DESCRIPTION:
URL:https://www.pak.hr/event/ne-bis-in-idem-zabrana-reformatio-in-peius-i-obnova-postupka-5/
LOCATION:Varaždin
END:VEVENT
END:VCALENDAR