BEGIN:VCALENDAR
VERSION:2.0
PRODID:-//Pravosudna akademija - ECPv6.15.20//NONSGML v1.0//EN
CALSCALE:GREGORIAN
METHOD:PUBLISH
X-ORIGINAL-URL:https://www.pak.hr
X-WR-CALDESC:Događaji za Pravosudna akademija
REFRESH-INTERVAL;VALUE=DURATION:PT1H
X-Robots-Tag:noindex
X-PUBLISHED-TTL:PT1H
BEGIN:VTIMEZONE
TZID:Europe/Zagreb
BEGIN:DAYLIGHT
TZOFFSETFROM:+0100
TZOFFSETTO:+0200
TZNAME:CEST
DTSTART:20250330T010000
END:DAYLIGHT
BEGIN:STANDARD
TZOFFSETFROM:+0200
TZOFFSETTO:+0100
TZNAME:CET
DTSTART:20251026T010000
END:STANDARD
BEGIN:DAYLIGHT
TZOFFSETFROM:+0100
TZOFFSETTO:+0200
TZNAME:CEST
DTSTART:20260329T010000
END:DAYLIGHT
BEGIN:STANDARD
TZOFFSETFROM:+0200
TZOFFSETTO:+0100
TZNAME:CET
DTSTART:20261025T010000
END:STANDARD
BEGIN:DAYLIGHT
TZOFFSETFROM:+0100
TZOFFSETTO:+0200
TZNAME:CEST
DTSTART:20270328T010000
END:DAYLIGHT
BEGIN:STANDARD
TZOFFSETFROM:+0200
TZOFFSETTO:+0100
TZNAME:CET
DTSTART:20271031T010000
END:STANDARD
END:VTIMEZONE
BEGIN:VEVENT
DTSTART;TZID=Europe/Zagreb:20261106T090000
DTEND;TZID=Europe/Zagreb:20261106T090000
DTSTAMP:20260424T100121
CREATED:20260122T145703Z
LAST-MODIFIED:20260403T111536Z
UID:10001795-1793955600-1793955600@www.pak.hr
SUMMARY:Troškovi stečajnog postupka i ostale obveze stečajne mase
DESCRIPTION:
URL:https://www.pak.hr/event/troskovi-stecajnog-postupka-i-ostale-obveze-stecajne-mase-4/
LOCATION:Split
END:VEVENT
BEGIN:VEVENT
DTSTART;TZID=Europe/Zagreb:20261106T090000
DTEND;TZID=Europe/Zagreb:20261106T090000
DTSTAMP:20260424T100121
CREATED:20260122T145718Z
LAST-MODIFIED:20260403T111536Z
UID:10001796-1793955600-1793955600@www.pak.hr
SUMMARY:Jačanje kapaciteta za upravljanje stresom i mentalna dobrobit
DESCRIPTION:
URL:https://www.pak.hr/event/jacanje-kapaciteta-za-upravljanje-stresom-i-mentalna-dobrobit-11/
LOCATION:Zagreb
END:VEVENT
BEGIN:VEVENT
DTSTART;TZID=Europe/Zagreb:20261106T090000
DTEND;TZID=Europe/Zagreb:20261106T090000
DTSTAMP:20260424T100121
CREATED:20260122T145718Z
LAST-MODIFIED:20260403T111536Z
UID:10001797-1793955600-1793955600@www.pak.hr
SUMMARY:Načini komunikacije s medijima i društvene mreže
DESCRIPTION:
URL:https://www.pak.hr/event/nacini-komunikacije-s-medijima-i-drustvene-mreze-15-2-3/
LOCATION:Osijek
END:VEVENT
END:VCALENDAR