BEGIN:VCALENDAR
VERSION:2.0
PRODID:-//Pravosudna akademija - ECPv6.15.20//NONSGML v1.0//EN
CALSCALE:GREGORIAN
METHOD:PUBLISH
X-WR-CALNAME:Pravosudna akademija
X-ORIGINAL-URL:https://www.pak.hr
X-WR-CALDESC:Događaji za Pravosudna akademija
REFRESH-INTERVAL;VALUE=DURATION:PT1H
X-Robots-Tag:noindex
X-PUBLISHED-TTL:PT1H
BEGIN:VTIMEZONE
TZID:Europe/Zagreb
BEGIN:DAYLIGHT
TZOFFSETFROM:+0100
TZOFFSETTO:+0200
TZNAME:CEST
DTSTART:20250330T010000
END:DAYLIGHT
BEGIN:STANDARD
TZOFFSETFROM:+0200
TZOFFSETTO:+0100
TZNAME:CET
DTSTART:20251026T010000
END:STANDARD
BEGIN:DAYLIGHT
TZOFFSETFROM:+0100
TZOFFSETTO:+0200
TZNAME:CEST
DTSTART:20260329T010000
END:DAYLIGHT
BEGIN:STANDARD
TZOFFSETFROM:+0200
TZOFFSETTO:+0100
TZNAME:CET
DTSTART:20261025T010000
END:STANDARD
BEGIN:DAYLIGHT
TZOFFSETFROM:+0100
TZOFFSETTO:+0200
TZNAME:CEST
DTSTART:20270328T010000
END:DAYLIGHT
BEGIN:STANDARD
TZOFFSETFROM:+0200
TZOFFSETTO:+0100
TZNAME:CET
DTSTART:20271031T010000
END:STANDARD
END:VTIMEZONE
BEGIN:VEVENT
DTSTART;TZID=Europe/Zagreb:20261111T090000
DTEND;TZID=Europe/Zagreb:20261111T090000
DTSTAMP:20260424T095246
CREATED:20260122T145748Z
LAST-MODIFIED:20260403T111604Z
UID:10001806-1794387600-1794387600@www.pak.hr
SUMMARY:Ograničenja slobode kretanja tražitelja međunarodne zaštite
DESCRIPTION:
URL:https://www.pak.hr/event/ogranicenja-slobode-kretanja-trazitelja-medunarodne-zastite/
LOCATION:Zagreb
END:VEVENT
BEGIN:VEVENT
DTSTART;TZID=Europe/Zagreb:20261111T090000
DTEND;TZID=Europe/Zagreb:20261111T090000
DTSTAMP:20260424T095246
CREATED:20260122T145748Z
LAST-MODIFIED:20260403T111604Z
UID:10001808-1794387600-1794387600@www.pak.hr
SUMMARY:eSpis i Anon
DESCRIPTION:
URL:https://www.pak.hr/event/espis-i-anon-6/
LOCATION:Zagreb
END:VEVENT
BEGIN:VEVENT
DTSTART;TZID=Europe/Zagreb:20261111T090000
DTEND;TZID=Europe/Zagreb:20261111T090000
DTSTAMP:20260424T095246
CREATED:20260122T145748Z
LAST-MODIFIED:20260403T111604Z
UID:10001809-1794387600-1794387600@www.pak.hr
SUMMARY:Komunikacijske vještine
DESCRIPTION:
URL:https://www.pak.hr/event/komunikacijske-vjestine-21-12/
LOCATION:Osijek
END:VEVENT
BEGIN:VEVENT
DTSTART;TZID=Europe/Zagreb:20261111T090000
DTEND;TZID=Europe/Zagreb:20261112T000000
DTSTAMP:20260424T095246
CREATED:20260122T145748Z
LAST-MODIFIED:20260403T111604Z
UID:10001807-1794387600-1794441600@www.pak.hr
SUMMARY:Suzbijanje pranja novca
DESCRIPTION:
URL:https://www.pak.hr/event/suzbijanje-pranja-novca-6-4/
LOCATION:Varaždin
END:VEVENT
END:VCALENDAR