BEGIN:VCALENDAR
VERSION:2.0
PRODID:-//Pravosudna akademija - ECPv6.15.20//NONSGML v1.0//EN
CALSCALE:GREGORIAN
METHOD:PUBLISH
X-ORIGINAL-URL:https://www.pak.hr
X-WR-CALDESC:Događaji za Pravosudna akademija
REFRESH-INTERVAL;VALUE=DURATION:PT1H
X-Robots-Tag:noindex
X-PUBLISHED-TTL:PT1H
BEGIN:VTIMEZONE
TZID:Europe/Zagreb
BEGIN:DAYLIGHT
TZOFFSETFROM:+0100
TZOFFSETTO:+0200
TZNAME:CEST
DTSTART:20250330T010000
END:DAYLIGHT
BEGIN:STANDARD
TZOFFSETFROM:+0200
TZOFFSETTO:+0100
TZNAME:CET
DTSTART:20251026T010000
END:STANDARD
BEGIN:DAYLIGHT
TZOFFSETFROM:+0100
TZOFFSETTO:+0200
TZNAME:CEST
DTSTART:20260329T010000
END:DAYLIGHT
BEGIN:STANDARD
TZOFFSETFROM:+0200
TZOFFSETTO:+0100
TZNAME:CET
DTSTART:20261025T010000
END:STANDARD
BEGIN:DAYLIGHT
TZOFFSETFROM:+0100
TZOFFSETTO:+0200
TZNAME:CEST
DTSTART:20270328T010000
END:DAYLIGHT
BEGIN:STANDARD
TZOFFSETFROM:+0200
TZOFFSETTO:+0100
TZNAME:CET
DTSTART:20271031T010000
END:STANDARD
END:VTIMEZONE
BEGIN:VEVENT
DTSTART;TZID=Europe/Zagreb:20261112T090000
DTEND;TZID=Europe/Zagreb:20261112T090000
DTSTAMP:20260424T095325
CREATED:20260122T145748Z
LAST-MODIFIED:20260403T111613Z
UID:10001810-1794474000-1794474000@www.pak.hr
SUMMARY:Pravo EU i pravo VE - kaznenopravni aspekt
DESCRIPTION:
URL:https://www.pak.hr/event/pravo-eu-i-pravo-ve-kaznenopravni-aspekt-3-7/
LOCATION:Rijeka
END:VEVENT
BEGIN:VEVENT
DTSTART;TZID=Europe/Zagreb:20261112T090000
DTEND;TZID=Europe/Zagreb:20261112T090000
DTSTAMP:20260424T095325
CREATED:20260122T145948Z
LAST-MODIFIED:20260403T111613Z
UID:10001811-1794474000-1794474000@www.pak.hr
SUMMARY:Odmjeravanje i obrazlaganje novčanih kazni u predmetima iz nadležnosti USKOK-a
DESCRIPTION:
URL:https://www.pak.hr/event/odmjeravanje-i-obrazlaganje-novcanih-kazni-u-predmetima-iz-nadleznosti-uskok-a-7-4/
LOCATION:Split
END:VEVENT
BEGIN:VEVENT
DTSTART;TZID=Europe/Zagreb:20261112T090000
DTEND;TZID=Europe/Zagreb:20261112T090000
DTSTAMP:20260424T095325
CREATED:20260122T145948Z
LAST-MODIFIED:20260403T111614Z
UID:10001812-1794474000-1794474000@www.pak.hr
SUMMARY:Zločin iz mržnje\, javno poticanje na nasilje i mržnju te uznemiravanje i diskriminacija po osnovi spolne orijentacije
DESCRIPTION:
URL:https://www.pak.hr/event/zlocin-iz-mrznje-javno-poticanje-na-nasilje-i-mrznju-te-uznemiravanje-i-diskriminacija-po-osnovi-spolne-orijentacije-5/
LOCATION:Osijek
END:VEVENT
END:VCALENDAR