BEGIN:VCALENDAR
VERSION:2.0
PRODID:-//Pravosudna akademija - ECPv6.15.20//NONSGML v1.0//EN
CALSCALE:GREGORIAN
METHOD:PUBLISH
X-WR-CALNAME:Pravosudna akademija
X-ORIGINAL-URL:https://www.pak.hr
X-WR-CALDESC:Događaji za Pravosudna akademija
REFRESH-INTERVAL;VALUE=DURATION:PT1H
X-Robots-Tag:noindex
X-PUBLISHED-TTL:PT1H
BEGIN:VTIMEZONE
TZID:Europe/Zagreb
BEGIN:DAYLIGHT
TZOFFSETFROM:+0100
TZOFFSETTO:+0200
TZNAME:CEST
DTSTART:20250330T010000
END:DAYLIGHT
BEGIN:STANDARD
TZOFFSETFROM:+0200
TZOFFSETTO:+0100
TZNAME:CET
DTSTART:20251026T010000
END:STANDARD
BEGIN:DAYLIGHT
TZOFFSETFROM:+0100
TZOFFSETTO:+0200
TZNAME:CEST
DTSTART:20260329T010000
END:DAYLIGHT
BEGIN:STANDARD
TZOFFSETFROM:+0200
TZOFFSETTO:+0100
TZNAME:CET
DTSTART:20261025T010000
END:STANDARD
BEGIN:DAYLIGHT
TZOFFSETFROM:+0100
TZOFFSETTO:+0200
TZNAME:CEST
DTSTART:20270328T010000
END:DAYLIGHT
BEGIN:STANDARD
TZOFFSETFROM:+0200
TZOFFSETTO:+0100
TZNAME:CET
DTSTART:20271031T010000
END:STANDARD
END:VTIMEZONE
BEGIN:VEVENT
DTSTART;TZID=Europe/Zagreb:20261113T090000
DTEND;TZID=Europe/Zagreb:20261113T090000
DTSTAMP:20260424T095235
CREATED:20260122T145948Z
LAST-MODIFIED:20260403T111614Z
UID:10001813-1794560400-1794560400@www.pak.hr
SUMMARY:Promicanje prava na različitost i borba protiv netrpeljivosti i mržnje
DESCRIPTION:
URL:https://www.pak.hr/event/promicanje-prava-na-razlicitost-i-borba-protiv-netrpeljivosti-i-mrznje-7-3/
LOCATION:Osijek
END:VEVENT
BEGIN:VEVENT
DTSTART;TZID=Europe/Zagreb:20261113T090000
DTEND;TZID=Europe/Zagreb:20261113T090000
DTSTAMP:20260424T095235
CREATED:20260122T145948Z
LAST-MODIFIED:20260403T111614Z
UID:10001814-1794560400-1794560400@www.pak.hr
SUMMARY:Odmjeravanje i obrazlaganje kaznenopravnih sankcija
DESCRIPTION:
URL:https://www.pak.hr/event/odmjeravanje-i-obrazlaganje-kaznenopravnih-sankcija-8/
LOCATION:Split
END:VEVENT
BEGIN:VEVENT
DTSTART;TZID=Europe/Zagreb:20261113T090000
DTEND;TZID=Europe/Zagreb:20261113T090000
DTSTAMP:20260424T095235
CREATED:20260122T145948Z
LAST-MODIFIED:20260403T111618Z
UID:10001815-1794560400-1794560400@www.pak.hr
SUMMARY:Tužba za ispravak i brisovna tužba
DESCRIPTION:
URL:https://www.pak.hr/event/tuzba-za-ispravak-i-brisovna-tuzba-7/
LOCATION:Varaždin
END:VEVENT
BEGIN:VEVENT
DTSTART;TZID=Europe/Zagreb:20261113T090000
DTEND;TZID=Europe/Zagreb:20261113T090000
DTSTAMP:20260424T095235
CREATED:20260122T150148Z
LAST-MODIFIED:20260403T111618Z
UID:10001816-1794560400-1794560400@www.pak.hr
SUMMARY:Jačanje kapaciteta za upravljanje stresom i mentalna dobrobit
DESCRIPTION:
URL:https://www.pak.hr/event/jacanje-kapaciteta-za-upravljanje-stresom-i-mentalna-dobrobit-12/
LOCATION:Zagreb
END:VEVENT
BEGIN:VEVENT
DTSTART;TZID=Europe/Zagreb:20261113T090000
DTEND;TZID=Europe/Zagreb:20261113T090000
DTSTAMP:20260424T095235
CREATED:20260122T150148Z
LAST-MODIFIED:20260403T111618Z
UID:10001817-1794560400-1794560400@www.pak.hr
SUMMARY:Suzbijanje seksualnog nasilja i seksualnog uznemiravanja i standardi zaštite prava djece žrtava spolnog zlostavljanja i zanemarivanja u domaćem i europskom zakonodavstvu
DESCRIPTION:
URL:https://www.pak.hr/event/suzbijanje-seksualnog-nasilja-i-seksualnog-uznemiravanja-i-standardi-zastite-prava-djece-zrtava-spolnog-zlostavljanja-i-zanemarivanja-u-domacem-i-europskom-zakonodavstvu-4/
LOCATION:Rijeka
END:VEVENT
END:VCALENDAR